{"text_format":"1","workbook":"xlsx","n_sheets":5,"sheets":["6 класс","7 класс ","8 класс","9 класс","10 класс"],"not_rendered":{"charts":0,"images":0,"macros":0,"external_links":0,"defined_names":15,"comments":0,"pivot_tables":0},"unopened":[],"bounds":{"document_bytes":16777216,"sheet_cells":100000,"rows_first":2000,"rows_last":500,"rows_between":2000,"halvings":0,"cell_chars":16384,"cell_head_chars":4096},"cells_cut":0,"cells_raw":0,"read":"whole","date_system":"1900"}

{"sheet":"6 класс","index":0,"n_rows":186,"n_cols":5,"rows_kept":186,"cut":false,"hidden":false,"merged":[[0,1,0,4]]}
[null,"французскому языку"]
[]
[null,null,"макс балл",100]
["шифр","класс обучается","Кол-во набранных баллов","% выполнения работы","Статус"]
["2023-01-06",6,80,{"$f":"C5*100/макс7","v":80},"победитель"]
["2023-03-06",6,68,68,"призер"]
["2023-04-06",6,52,52,"призер"]
["2023-02-06",6,50,50,"призер"]
["2023-06-06",6,44,44]
["2023-05-06",6,38,38]
[]
[]
[]
[]
[]
[]
[]
[]
[]
[]
[]
[]
[]
[]
[]
[]
[]
[]
[]
[]
[]
[]
[]
[]
[]
[]
[]
[]
[]
[]
[]
[]
[]
[]
[]
[]
[]
[]
[null,7,null,{"$f":"C49*100/макс7","v":0}]
[null,7,null,0]
[null,7,null,0]
[null,7,null,0]
[null,7,null,0]
[null,7,null,0]
[null,7,null,0]
[null,7,null,0]
[null,7,null,0]
[null,7,null,0]
[null,7,null,0]
[null,7,null,0]
[null,7,null,0]
[null,7,null,0]
[null,7,null,0]
[null,7,null,0]
[null,7,null,0]
[null,7,null,0]
[null,7,null,0]
[null,7,null,0]
[null,7,null,0]
[null,7,null,0]
[null,7,null,0]
[null,7,null,0]
[null,7,null,0]
[null,7,null,0]
[null,7,null,0]
[null,7,null,0]
[null,7,null,0]
[null,7,null,0]
[null,7,null,0]
[null,7,null,0]
[null,7,null,{"$f":"C81*100/макс7","v":0}]
[null,7,null,0]
[null,7,null,0]
[null,7,null,0]
[null,7,null,0]
[null,7,null,0]
[null,7,null,0]
[null,7,null,0]
[null,7,null,0]
[null,7,null,0]
[null,7,null,0]
[null,7,null,0]
[null,7,null,0]
[null,7,null,0]
[null,7,null,0]
[null,7,null,0]
[null,7,null,0]
[null,7,null,0]
[null,7,null,0]
[null,7,null,0]
[null,7,null,0]
[null,7,null,0]
[null,7,null,0]
[null,7,null,0]
[null,7,null,0]
[null,7,null,0]
[null,7,null,0]
[null,7,null,0]
[null,7,null,0]
[null,7,null,0]
[null,7,null,0]
[null,7,null,0]
[null,7,null,{"$f":"C113*100/макс7","v":0}]
[null,7,null,0]
[null,7,null,0]
[null,7,null,0]
[null,7,null,0]
[null,7,null,0]
[null,7,null,0]
[null,7,null,0]
[null,7,null,0]
[null,7,null,0]
[null,7,null,0]
[null,7,null,0]
[null,7,null,0]
[null,7,null,0]
[null,7,null,0]
[null,7,null,0]
[null,7,null,0]
[null,7,null,0]
[null,7,null,0]
[null,7,null,0]
[null,7,null,0]
[null,7,null,0]
[null,7,null,0]
[null,7,null,0]
[null,7,null,0]
[null,7,null,0]
[null,7,null,0]
[null,7,null,0]
[null,7,null,0]
[null,7,null,0]
[null,7,null,0]
[null,7,null,0]
[null,7,null,{"$f":"C145*100/макс7","v":0}]
[null,7,null,0]
[null,7,null,0]
[null,7,null,0]
[null,7,null,0]
[null,7,null,0]
[null,7,null,0]
[null,7,null,0]
[null,7,null,0]
[null,7,null,0]
[null,7,null,0]
[null,7,null,0]
[null,7,null,0]
[null,7,null,0]
[null,7,null,0]
[null,7,null,0]
[null,7,null,0]
[null,7,null,0]
[null,7,null,0]
[null,7,null,0]
[null,7,null,0]
[null,7,null,0]
[null,7,null,0]
[null,7,null,0]
[null,7,null,0]
[null,7,null,0]
[null,7,null,0]
[null,7,null,0]
[null,7,null,0]
[null,7,null,0]
[null,7,null,0]
[null,7,null,0]
[null,7,null,{"$f":"C177*100/макс7","v":0}]
[null,7,null,0]
[null,7,null,0]
[null,7,null,0]
[null,7,null,0]
[null,7,null,0]
[null,7,null,0]
[null,7,null,0]
[null,7,null,0]
[null,7,null,0]

{"sheet":"7 класс ","index":1,"n_rows":186,"n_cols":5,"rows_kept":186,"cut":false,"hidden":false,"merged":[[0,1,0,4]]}
[null,"французскому языку"]
[]
[null,null,"макс балл",100]
["шифр","класс обучается","Кол-во набранных баллов","% выполнения работы","Статус"]
["2023-01-07",7,54,{"$f":"C5*100/'7 класс '!макс7","v":54},"победитель"]
["2023-04-07",7,52,{"$f":"C6*100/'7 класс '!макс7","v":52},"призер"]
["2023-03-07",7,51,{"$f":"C7*100/'7 класс '!макс7","v":51},"призер"]
["2023-05-07",7,45,{"$f":"C8*100/'7 класс '!макс7","v":45}]
["2023-02-07",7,41,{"$f":"C9*100/'7 класс '!макс7","v":41}]
[null,7,null,{"$f":"C10*100/'7 класс '!макс7","v":0}]
[null,7,null,{"$f":"C11*100/'7 класс '!макс7","v":0}]
[null,7,null,{"$f":"C12*100/'7 класс '!макс7","v":0}]
[null,7,null,{"$f":"C13*100/'7 класс '!макс7","v":0}]
[null,7,null,{"$f":"C14*100/'7 класс '!макс7","v":0}]
[null,7,null,{"$f":"C15*100/'7 класс '!макс7","v":0}]
[null,7,null,{"$f":"C16*100/'7 класс '!макс7","v":0}]
[null,7,null,{"$f":"C17*100/'7 класс '!макс7","v":0}]
[null,7,null,{"$f":"C18*100/'7 класс '!макс7","v":0}]
[null,7,null,{"$f":"C19*100/'7 класс '!макс7","v":0}]
[null,7,null,{"$f":"C20*100/'7 класс '!макс7","v":0}]
[null,7,null,{"$f":"C21*100/'7 класс '!макс7","v":0}]
[null,7,null,{"$f":"C22*100/'7 класс '!макс7","v":0}]
[null,7,null,{"$f":"C23*100/'7 класс '!макс7","v":0}]
[null,7,null,{"$f":"C24*100/'7 класс '!макс7","v":0}]
[null,7,null,{"$f":"C25*100/'7 класс '!макс7","v":0}]
[null,7,null,{"$f":"C26*100/'7 класс '!макс7","v":0}]
[null,7,null,{"$f":"C27*100/'7 класс '!макс7","v":0}]
[null,7,null,{"$f":"C28*100/'7 класс '!макс7","v":0}]
[null,7,null,{"$f":"C29*100/'7 класс '!макс7","v":0}]
[null,7,null,{"$f":"C30*100/'7 класс '!макс7","v":0}]
[null,7,null,{"$f":"C31*100/'7 класс '!макс7","v":0}]
[null,7,null,{"$f":"C32*100/'7 класс '!макс7","v":0}]
[null,7,null,{"$f":"C33*100/'7 класс '!макс7","v":0}]
[null,7,null,{"$f":"C34*100/'7 класс '!макс7","v":0}]
[null,7,null,{"$f":"C35*100/'7 класс '!макс7","v":0}]
[null,7,null,{"$f":"C36*100/'7 класс '!макс7","v":0}]
[null,7,null,{"$f":"C37*100/'7 класс '!макс7","v":0}]
[null,7,null,{"$f":"C38*100/'7 класс '!макс7","v":0}]
[null,7,null,{"$f":"C39*100/'7 класс '!макс7","v":0}]
[null,7,null,{"$f":"C40*100/'7 класс '!макс7","v":0}]
[null,7,null,{"$f":"C41*100/'7 класс '!макс7","v":0}]
[null,7,null,{"$f":"C42*100/'7 класс '!макс7","v":0}]
[null,7,null,{"$f":"C43*100/'7 класс '!макс7","v":0}]
[null,7,null,{"$f":"C44*100/'7 класс '!макс7","v":0}]
[null,7,null,{"$f":"C45*100/'7 класс '!макс7","v":0}]
[null,7,null,{"$f":"C46*100/'7 класс '!макс7","v":0}]
[null,7,null,{"$f":"C47*100/'7 класс '!макс7","v":0}]
[null,7,null,{"$f":"C48*100/'7 класс '!макс7","v":0}]
[null,7,null,{"$f":"C49*100/'7 класс '!макс7","v":0}]
[null,7,null,{"$f":"C50*100/'7 класс '!макс7","v":0}]
[null,7,null,{"$f":"C51*100/'7 класс '!макс7","v":0}]
[null,7,null,{"$f":"C52*100/'7 класс '!макс7","v":0}]
[null,7,null,{"$f":"C53*100/'7 класс '!макс7","v":0}]
[null,7,null,{"$f":"C54*100/'7 класс '!макс7","v":0}]
[null,7,null,{"$f":"C55*100/'7 класс '!макс7","v":0}]
[null,7,null,{"$f":"C56*100/'7 класс '!макс7","v":0}]
[null,7,null,{"$f":"C57*100/'7 класс '!макс7","v":0}]
[null,7,null,{"$f":"C58*100/'7 класс '!макс7","v":0}]
[null,7,null,{"$f":"C59*100/'7 класс '!макс7","v":0}]
[null,7,null,{"$f":"C60*100/'7 класс '!макс7","v":0}]
[null,7,null,{"$f":"C61*100/'7 класс '!макс7","v":0}]
[null,7,null,{"$f":"C62*100/'7 класс '!макс7","v":0}]
[null,7,null,{"$f":"C63*100/'7 класс '!макс7","v":0}]
[null,7,null,{"$f":"C64*100/'7 класс '!макс7","v":0}]
[null,7,null,{"$f":"C65*100/'7 класс '!макс7","v":0}]
[null,7,null,{"$f":"C66*100/'7 класс '!макс7","v":0}]
[null,7,null,{"$f":"C67*100/'7 класс '!макс7","v":0}]
[null,7,null,{"$f":"C68*100/'7 класс '!макс7","v":0}]
[null,7,null,{"$f":"C69*100/'7 класс '!макс7","v":0}]
[null,7,null,{"$f":"C70*100/'7 класс '!макс7","v":0}]
[null,7,null,{"$f":"C71*100/'7 класс '!макс7","v":0}]
[null,7,null,{"$f":"C72*100/'7 класс '!макс7","v":0}]
[null,7,null,{"$f":"C73*100/'7 класс '!макс7","v":0}]
[null,7,null,{"$f":"C74*100/'7 класс '!макс7","v":0}]
[null,7,null,{"$f":"C75*100/'7 класс '!макс7","v":0}]
[null,7,null,{"$f":"C76*100/'7 класс '!макс7","v":0}]
[null,7,null,{"$f":"C77*100/'7 класс '!макс7","v":0}]
[null,7,null,{"$f":"C78*100/'7 класс '!макс7","v":0}]
[null,7,null,{"$f":"C79*100/'7 класс '!макс7","v":0}]
[null,7,null,{"$f":"C80*100/'7 класс '!макс7","v":0}]
[null,7,null,{"$f":"C81*100/'7 класс '!макс7","v":0}]
[null,7,null,{"$f":"C82*100/'7 класс '!макс7","v":0}]
[null,7,null,{"$f":"C83*100/'7 класс '!макс7","v":0}]
[null,7,null,{"$f":"C84*100/'7 класс '!макс7","v":0}]
[null,7,null,{"$f":"C85*100/'7 класс '!макс7","v":0}]
[null,7,null,{"$f":"C86*100/'7 класс '!макс7","v":0}]
[null,7,null,{"$f":"C87*100/'7 класс '!макс7","v":0}]
[null,7,null,{"$f":"C88*100/'7 класс '!макс7","v":0}]
[null,7,null,{"$f":"C89*100/'7 класс '!макс7","v":0}]
[null,7,null,{"$f":"C90*100/'7 класс '!макс7","v":0}]
[null,7,null,{"$f":"C91*100/'7 класс '!макс7","v":0}]
[null,7,null,{"$f":"C92*100/'7 класс '!макс7","v":0}]
[null,7,null,{"$f":"C93*100/'7 класс '!макс7","v":0}]
[null,7,null,{"$f":"C94*100/'7 класс '!макс7","v":0}]
[null,7,null,{"$f":"C95*100/'7 класс '!макс7","v":0}]
[null,7,null,{"$f":"C96*100/'7 класс '!макс7","v":0}]
[null,7,null,{"$f":"C97*100/'7 класс '!макс7","v":0}]
[null,7,null,{"$f":"C98*100/'7 класс '!макс7","v":0}]
[null,7,null,{"$f":"C99*100/'7 класс '!макс7","v":0}]
[null,7,null,{"$f":"C100*100/'7 класс '!макс7","v":0}]
[null,7,null,{"$f":"C101*100/'7 класс '!макс7","v":0}]
[null,7,null,{"$f":"C102*100/'7 класс '!макс7","v":0}]
[null,7,null,{"$f":"C103*100/'7 класс '!макс7","v":0}]
[null,7,null,{"$f":"C104*100/'7 класс '!макс7","v":0}]
[null,7,null,{"$f":"C105*100/'7 класс '!макс7","v":0}]
[null,7,null,{"$f":"C106*100/'7 класс '!макс7","v":0}]
[null,7,null,{"$f":"C107*100/'7 класс '!макс7","v":0}]
[null,7,null,{"$f":"C108*100/'7 класс '!макс7","v":0}]
[null,7,null,{"$f":"C109*100/'7 класс '!макс7","v":0}]
[null,7,null,{"$f":"C110*100/'7 класс '!макс7","v":0}]
[null,7,null,{"$f":"C111*100/'7 класс '!макс7","v":0}]
[null,7,null,{"$f":"C112*100/'7 класс '!макс7","v":0}]
[null,7,null,{"$f":"C113*100/'7 класс '!макс7","v":0}]
[null,7,null,{"$f":"C114*100/'7 класс '!макс7","v":0}]
[null,7,null,{"$f":"C115*100/'7 класс '!макс7","v":0}]
[null,7,null,{"$f":"C116*100/'7 класс '!макс7","v":0}]
[null,7,null,{"$f":"C117*100/'7 класс '!макс7","v":0}]
[null,7,null,{"$f":"C118*100/'7 класс '!макс7","v":0}]
[null,7,null,{"$f":"C119*100/'7 класс '!макс7","v":0}]
[null,7,null,{"$f":"C120*100/'7 класс '!макс7","v":0}]
[null,7,null,{"$f":"C121*100/'7 класс '!макс7","v":0}]
[null,7,null,{"$f":"C122*100/'7 класс '!макс7","v":0}]
[null,7,null,{"$f":"C123*100/'7 класс '!макс7","v":0}]
[null,7,null,{"$f":"C124*100/'7 класс '!макс7","v":0}]
[null,7,null,{"$f":"C125*100/'7 класс '!макс7","v":0}]
[null,7,null,{"$f":"C126*100/'7 класс '!макс7","v":0}]
[null,7,null,{"$f":"C127*100/'7 класс '!макс7","v":0}]
[null,7,null,{"$f":"C128*100/'7 класс '!макс7","v":0}]
[null,7,null,{"$f":"C129*100/'7 класс '!макс7","v":0}]
[null,7,null,{"$f":"C130*100/'7 класс '!макс7","v":0}]
[null,7,null,{"$f":"C131*100/'7 класс '!макс7","v":0}]
[null,7,null,{"$f":"C132*100/'7 класс '!макс7","v":0}]
[null,7,null,{"$f":"C133*100/'7 класс '!макс7","v":0}]
[null,7,null,{"$f":"C134*100/'7 класс '!макс7","v":0}]
[null,7,null,{"$f":"C135*100/'7 класс '!макс7","v":0}]
[null,7,null,{"$f":"C136*100/'7 класс '!макс7","v":0}]
[null,7,null,{"$f":"C137*100/'7 класс '!макс7","v":0}]
[null,7,null,{"$f":"C138*100/'7 класс '!макс7","v":0}]
[null,7,null,{"$f":"C139*100/'7 класс '!макс7","v":0}]
[null,7,null,{"$f":"C140*100/'7 класс '!макс7","v":0}]
[null,7,null,{"$f":"C141*100/'7 класс '!макс7","v":0}]
[null,7,null,{"$f":"C142*100/'7 класс '!макс7","v":0}]
[null,7,null,{"$f":"C143*100/'7 класс '!макс7","v":0}]
[null,7,null,{"$f":"C144*100/'7 класс '!макс7","v":0}]
[null,7,null,{"$f":"C145*100/'7 класс '!макс7","v":0}]
[null,7,null,{"$f":"C146*100/'7 класс '!макс7","v":0}]
[null,7,null,{"$f":"C147*100/'7 класс '!макс7","v":0}]
[null,7,null,{"$f":"C148*100/'7 класс '!макс7","v":0}]
[null,7,null,{"$f":"C149*100/'7 класс '!макс7","v":0}]
[null,7,null,{"$f":"C150*100/'7 класс '!макс7","v":0}]
[null,7,null,{"$f":"C151*100/'7 класс '!макс7","v":0}]
[null,7,null,{"$f":"C152*100/'7 класс '!макс7","v":0}]
[null,7,null,{"$f":"C153*100/'7 класс '!макс7","v":0}]
[null,7,null,{"$f":"C154*100/'7 класс '!макс7","v":0}]
[null,7,null,{"$f":"C155*100/'7 класс '!макс7","v":0}]
[null,7,null,{"$f":"C156*100/'7 класс '!макс7","v":0}]
[null,7,null,{"$f":"C157*100/'7 класс '!макс7","v":0}]
[null,7,null,{"$f":"C158*100/'7 класс '!макс7","v":0}]
[null,7,null,{"$f":"C159*100/'7 класс '!макс7","v":0}]
[null,7,null,{"$f":"C160*100/'7 класс '!макс7","v":0}]
[null,7,null,{"$f":"C161*100/'7 класс '!макс7","v":0}]
[null,7,null,{"$f":"C162*100/'7 класс '!макс7","v":0}]
[null,7,null,{"$f":"C163*100/'7 класс '!макс7","v":0}]
[null,7,null,{"$f":"C164*100/'7 класс '!макс7","v":0}]
[null,7,null,{"$f":"C165*100/'7 класс '!макс7","v":0}]
[null,7,null,{"$f":"C166*100/'7 класс '!макс7","v":0}]
[null,7,null,{"$f":"C167*100/'7 класс '!макс7","v":0}]
[null,7,null,{"$f":"C168*100/'7 класс '!макс7","v":0}]
[null,7,null,{"$f":"C169*100/'7 класс '!макс7","v":0}]
[null,7,null,{"$f":"C170*100/'7 класс '!макс7","v":0}]
[null,7,null,{"$f":"C171*100/'7 класс '!макс7","v":0}]
[null,7,null,{"$f":"C172*100/'7 класс '!макс7","v":0}]
[null,7,null,{"$f":"C173*100/'7 класс '!макс7","v":0}]
[null,7,null,{"$f":"C174*100/'7 класс '!макс7","v":0}]
[null,7,null,{"$f":"C175*100/'7 класс '!макс7","v":0}]
[null,7,null,{"$f":"C176*100/'7 класс '!макс7","v":0}]
[null,7,null,{"$f":"C177*100/'7 класс '!макс7","v":0}]
[null,7,null,{"$f":"C178*100/'7 класс '!макс7","v":0}]
[null,7,null,{"$f":"C179*100/'7 класс '!макс7","v":0}]
[null,7,null,{"$f":"C180*100/'7 класс '!макс7","v":0}]
[null,7,null,{"$f":"C181*100/'7 класс '!макс7","v":0}]
[null,7,null,{"$f":"C182*100/'7 класс '!макс7","v":0}]
[null,7,null,{"$f":"C183*100/'7 класс '!макс7","v":0}]
[null,7,null,{"$f":"C184*100/'7 класс '!макс7","v":0}]
[null,7,null,{"$f":"C185*100/'7 класс '!макс7","v":0}]
[null,7,null,{"$f":"C186*100/'7 класс '!макс7","v":0}]

{"sheet":"8 класс","index":2,"n_rows":186,"n_cols":5,"rows_kept":186,"cut":false,"hidden":false,"merged":[[0,1,0,4]]}
[null,"французскому языку"]
[]
[null,null,"макс балл",100]
["шифр","класс обучается","Кол-во набранных баллов","% выполнения работы","Статус"]
["2023-01-08",8,78,{"$f":"C5*100/макс8","v":78},"победитель"]
["2023-07-08",8,70,70,"призер"]
["2023-05-08",8,61,61,"призер"]
["2023-03-08",8,61,61,"призер"]
["2023-04-08",8,60,60,"призер"]
["2023-02-08",8,58,58,"призер"]
["2023-06-08",8,31,31]
[null,8,null,0]
[null,8,null,0]
[null,8,null,0]
[null,8,null,0]
[null,8,null,0]
[null,8,null,0]
[null,8,null,0]
[null,8,null,0]
[null,8,null,0]
[null,8,null,0]
[null,8,null,0]
[null,8,null,0]
[null,8,null,0]
[null,8,null,0]
[null,8,null,0]
[null,8,null,0]
[null,8,null,0]
[null,8,null,0]
[null,8,null,0]
[null,8,null,0]
[null,8,null,0]
[null,8,null,0]
[null,8,null,0]
[null,8,null,0]
[null,8,null,0]
[null,8,null,{"$f":"C37*100/макс8","v":0}]
[null,8,null,0]
[null,8,null,0]
[null,8,null,0]
[null,8,null,0]
[null,8,null,0]
[null,8,null,0]
[null,8,null,0]
[null,8,null,0]
[null,8,null,0]
[null,8,null,0]
[null,8,null,0]
[null,8,null,0]
[null,8,null,0]
[null,8,null,0]
[null,8,null,0]
[null,8,null,0]
[null,8,null,0]
[null,8,null,0]
[null,8,null,0]
[null,8,null,0]
[null,8,null,0]
[null,8,null,0]
[null,8,null,0]
[null,8,null,0]
[null,8,null,0]
[null,8,null,0]
[null,8,null,0]
[null,8,null,0]
[null,8,null,0]
[null,8,null,0]
[null,8,null,0]
[null,8,null,{"$f":"C69*100/макс8","v":0}]
[null,8,null,0]
[null,8,null,0]
[null,8,null,0]
[null,8,null,0]
[null,8,null,0]
[null,8,null,0]
[null,8,null,0]
[null,8,null,0]
[null,8,null,0]
[null,8,null,0]
[null,8,null,0]
[null,8,null,0]
[null,8,null,0]
[null,8,null,0]
[null,8,null,0]
[null,8,null,0]
[null,8,null,0]
[null,8,null,0]
[null,8,null,0]
[null,8,null,0]
[null,8,null,0]
[null,8,null,0]
[null,8,null,0]
[null,8,null,0]
[null,8,null,0]
[null,8,null,0]
[null,8,null,0]
[null,8,null,0]
[null,8,null,0]
[null,8,null,0]
[null,8,null,0]
[null,8,null,{"$f":"C101*100/макс8","v":0}]
[null,8,null,0]
[null,8,null,0]
[null,8,null,0]
[null,8,null,0]
[null,8,null,0]
[null,8,null,0]
[null,8,null,0]
[null,8,null,0]
[null,8,null,0]
[null,8,null,0]
[null,8,null,0]
[null,8,null,0]
[null,8,null,0]
[null,8,null,0]
[null,8,null,0]
[null,8,null,0]
[null,8,null,0]
[null,8,null,0]
[null,8,null,0]
[null,8,null,0]
[null,8,null,0]
[null,8,null,0]
[null,8,null,0]
[null,8,null,0]
[null,8,null,0]
[null,8,null,0]
[null,8,null,0]
[null,8,null,0]
[null,8,null,0]
[null,8,null,0]
[null,8,null,0]
[null,8,null,{"$f":"C133*100/макс8","v":0}]
[null,8,null,0]
[null,8,null,0]
[null,8,null,0]
[null,8,null,0]
[null,8,null,0]
[null,8,null,0]
[null,8,null,0]
[null,8,null,0]
[null,8,null,0]
[null,8,null,0]
[null,8,null,0]
[null,8,null,0]
[null,8,null,0]
[null,8,null,0]
[null,8,null,0]
[null,8,null,0]
[null,8,null,0]
[null,8,null,0]
[null,8,null,0]
[null,8,null,0]
[null,8,null,0]
[null,8,null,0]
[null,8,null,0]
[null,8,null,0]
[null,8,null,0]
[null,8,null,0]
[null,8,null,0]
[null,8,null,0]
[null,8,null,0]
[null,8,null,0]
[null,8,null,0]
[null,8,null,{"$f":"C165*100/макс8","v":0}]
[null,8,null,0]
[null,8,null,0]
[null,8,null,0]
[null,8,null,0]
[null,8,null,0]
[null,8,null,0]
[null,8,null,0]
[null,8,null,0]
[null,8,null,0]
[null,8,null,0]
[null,8,null,0]
[null,8,null,0]
[null,8,null,0]
[null,8,null,0]
[null,8,null,0]
[null,8,null,0]
[null,8,null,0]
[null,8,null,0]
[null,8,null,0]
[null,8,null,0]
[null,8,null,0]

{"sheet":"9 класс","index":3,"n_rows":186,"n_cols":5,"rows_kept":186,"cut":false,"hidden":false,"merged":[[0,1,0,4]]}
[null,"французскому языку"]
[]
[null,null,"макс балл",100]
["шифр","класс обучается","Кол-во набранных баллов","% выполнения работы","Статус"]
["2023-02-09",9,64,{"$f":"C5*100/макс9","v":64},"победитель"]
["2023-01-09",9,58,58,"призер"]
["2023-05-09",9,54,54,"призер"]
["2023-03-09",9,54,54,"призер"]
["2023-06-09",9,52,52,"призер"]
["2023-07-09",9,30,30]
[]
[]
[]
[]
[]
[]
[]
[]
[]
[]
[]
[]
[]
[]
[]
[]
[]
[]
[]
[]
[]
[]
[]
[]
[]
[]
[]
[]
[]
[]
[]
[]
[]
[]
[]
[]
[]
[]
[]
[]
[]
[]
[]
[]
[]
[]
[]
[]
[]
[]
[]
[]
[]
[]
[]
[]
[]
[]
[]
[]
[]
[]
[]
[]
[]
[]
[]
[]
[]
[]
[]
[]
[]
[]
[]
[]
[]
[]
[]
[]
[]
[]
[]
[]
[]
[]
[]
[]
[]
[]
[]
[]
[]
[]
[]
[]
[]
[]
[]
[null,null,null,{"$f":"C110*100/макс9","v":0}]
[null,null,null,0]
[null,null,null,0]
[null,null,null,0]
[null,null,null,0]
[null,null,null,0]
[null,null,null,0]
[null,null,null,0]
[null,null,null,0]
[null,null,null,0]
[null,null,null,0]
[null,null,null,0]
[null,null,null,0]
[null,null,null,0]
[null,null,null,0]
[null,null,null,0]
[null,null,null,0]
[null,null,null,0]
[null,null,null,0]
[null,null,null,0]
[null,null,null,0]
[null,null,null,0]
[null,null,null,0]
[null,null,null,0]
[null,null,null,0]
[null,null,null,0]
[null,null,null,0]
[null,null,null,0]
[null,null,null,0]
[null,null,null,0]
[null,null,null,0]
[null,null,null,0]
[null,null,null,{"$f":"C142*100/макс9","v":0}]
[null,null,null,0]
[null,null,null,0]
[null,null,null,0]
[null,9,null,0]
[null,9,null,0]
[null,9,null,0]
[null,9,null,0]
[null,9,null,0]
[null,9,null,0]
[null,9,null,0]
[null,9,null,0]
[null,9,null,0]
[null,9,null,0]
[null,9,null,0]
[null,9,null,0]
[null,9,null,0]
[null,9,null,0]
[null,9,null,0]
[null,9,null,0]
[null,9,null,0]
[null,9,null,0]
[null,9,null,0]
[null,9,null,0]
[null,9,null,0]
[null,9,null,0]
[null,9,null,0]
[null,9,null,0]
[null,9,null,0]
[null,9,null,0]
[null,9,null,0]
[null,9,null,0]
[null,9,null,{"$f":"C174*100/макс9","v":0}]
[null,9,null,0]
[null,9,null,0]
[null,9,null,0]
[null,9,null,0]
[null,9,null,0]
[null,9,null,0]
[null,9,null,0]
[null,9,null,0]
[null,9,null,0]
[null,9,null,0]
[null,9,null,0]
[null,9,null,0]

{"sheet":"10 класс","index":4,"n_rows":5,"n_cols":5,"rows_kept":5,"cut":false,"hidden":false,"merged":[[0,1,0,4],[0,5,0,7]]}
[null,"французскому языку"]
[]
[null,null,"макс балл",100]
["шифр","№ ОО","Кол-во набранных баллов","% выполнения работы","Статус"]
["10 -1",80,54,{"$f":"C5*100/макс9","v":54},"победитель"]